BEGIN:VCALENDAR
VERSION:2.0
PRODID:-//Deloach Family Ties - ECPv6.15.20//NONSGML v1.0//EN
CALSCALE:GREGORIAN
METHOD:PUBLISH
X-WR-CALNAME:Deloach Family Ties
X-ORIGINAL-URL:https://deloachfamilyties.org
X-WR-CALDESC:Events for Deloach Family Ties
REFRESH-INTERVAL;VALUE=DURATION:PT1H
X-Robots-Tag:noindex
X-PUBLISHED-TTL:PT1H
BEGIN:VTIMEZONE
TZID:UTC
BEGIN:STANDARD
TZOFFSETFROM:+0000
TZOFFSETTO:+0000
TZNAME:UTC
DTSTART:20220101T000000
END:STANDARD
END:VTIMEZONE
BEGIN:VEVENT
DTSTART;TZID=UTC:20241110T140000
DTEND;TZID=UTC:20241110T170000
DTSTAMP:20260423T194420
CREATED:20241112T214217Z
LAST-MODIFIED:20241112T214217Z
UID:3239-1731247200-1731258000@deloachfamilyties.org
SUMMARY:New Mommy Event
DESCRIPTION:New Mommy Community Giveback\n 
URL:https://deloachfamilyties.org/event/new-mommy/
LOCATION:New Jersey\, Newark\, United States
CATEGORIES:Events
ATTACH;FMTTYPE=image/jpeg:https://deloachfamilyties.org/wp-content/uploads/2024/11/Community-Give-Back-NEW-MOMMY-Flyer-copy-2.jpg
END:VEVENT
BEGIN:VEVENT
DTSTART;TZID=UTC:20241031T180000
DTEND;TZID=UTC:20241031T200000
DTSTAMP:20260423T194420
CREATED:20241112T213801Z
LAST-MODIFIED:20241112T213823Z
UID:3241-1730397600-1730404800@deloachfamilyties.org
SUMMARY:A Warming Halloween
DESCRIPTION:A Warming Halloween\n 
URL:https://deloachfamilyties.org/event/a-warming-halloween/
LOCATION:New Jersey\, Newark\, United States
CATEGORIES:Events
ATTACH;FMTTYPE=image/jpeg:https://deloachfamilyties.org/wp-content/uploads/2024/11/A-Warming-Halloween-event.jpg
END:VEVENT
BEGIN:VEVENT
DTSTART;TZID=UTC:20241019T140000
DTEND;TZID=UTC:20241019T200000
DTSTAMP:20260423T194420
CREATED:20241008T114826Z
LAST-MODIFIED:20241008T114957Z
UID:3010-1729346400-1729368000@deloachfamilyties.org
SUMMARY:Fall for a Greater Cause
DESCRIPTION:Click the link below to purchase tickets \n \n\n \n  \n \n 
URL:https://deloachfamilyties.org/event/fall-for-a-greater-cause/
LOCATION:New Jersey\, Newark\, United States
CATEGORIES:Events
ATTACH;FMTTYPE=image/jpeg:https://deloachfamilyties.org/wp-content/uploads/2021/03/events-fall.jpg
END:VEVENT
BEGIN:VEVENT
DTSTART;TZID=UTC:20240821T100000
DTEND;TZID=UTC:20240821T140000
DTSTAMP:20260423T194420
CREATED:20241112T214019Z
LAST-MODIFIED:20241112T214019Z
UID:3240-1724234400-1724248800@deloachfamilyties.org
SUMMARY:Free Showers Event
DESCRIPTION:Free Showers Event\n 
URL:https://deloachfamilyties.org/event/free-showers-event/
LOCATION:New Jersey\, Newark\, United States
CATEGORIES:Events
ATTACH;FMTTYPE=image/jpeg:https://deloachfamilyties.org/wp-content/uploads/2024/11/FREE-Showers-copy.jpg
END:VEVENT
BEGIN:VEVENT
DTSTART;TZID=UTC:20240728T160000
DTEND;TZID=UTC:20240728T180000
DTSTAMP:20260423T194420
CREATED:20241112T220505Z
LAST-MODIFIED:20241112T220505Z
UID:3230-1722182400-1722189600@deloachfamilyties.org
SUMMARY:Anything and Everything Community Giveback
DESCRIPTION:Anything and Everything Community Giveback\n 
URL:https://deloachfamilyties.org/event/anything-and-everything-community-giveback/
LOCATION:New Jersey\, Newark\, United States
CATEGORIES:Events
ATTACH;FMTTYPE=image/jpeg:https://deloachfamilyties.org/wp-content/uploads/2024/08/anything-and-everything-flyer.jpg
END:VEVENT
BEGIN:VEVENT
DTSTART;TZID=UTC:20240615T110000
DTEND;TZID=UTC:20240615T190000
DTSTAMP:20260423T194420
CREATED:20241112T215618Z
LAST-MODIFIED:20241112T215618Z
UID:3233-1718449200-1718478000@deloachfamilyties.org
SUMMARY:Juneteenth Celebration
DESCRIPTION:Juneteenth Celebration\n 
URL:https://deloachfamilyties.org/event/juneteenth-celebration/
LOCATION:New Jersey\, Newark\, United States
CATEGORIES:Events
ATTACH;FMTTYPE=image/jpeg:https://deloachfamilyties.org/wp-content/uploads/2024/07/Juneteenth-Flyer.jpg
END:VEVENT
BEGIN:VEVENT
DTSTART;VALUE=DATE:20240504
DTEND;VALUE=DATE:20240505
DTSTAMP:20260423T194420
CREATED:20241112T215407Z
LAST-MODIFIED:20241112T215407Z
UID:3234-1714780800-1714867199@deloachfamilyties.org
SUMMARY:Award Ceremony
DESCRIPTION:Jewels of the Community Award Ceremony\n 
URL:https://deloachfamilyties.org/event/award-ceremony/
LOCATION:New Jersey\, Newark\, United States
CATEGORIES:Events
ATTACH;FMTTYPE=image/jpeg:https://deloachfamilyties.org/wp-content/uploads/2024/05/Award_Ceremony_Flyer.jpg
END:VEVENT
BEGIN:VEVENT
DTSTART;VALUE=DATE:20240330
DTEND;VALUE=DATE:20240331
DTSTAMP:20260423T194420
CREATED:20241112T220233Z
LAST-MODIFIED:20241112T220233Z
UID:3231-1711756800-1711843199@deloachfamilyties.org
SUMMARY:24' Easter Community Give Back
DESCRIPTION:24′ Easter Community Give Back\n 
URL:https://deloachfamilyties.org/event/24-easter-community-give-back/
LOCATION:New Jersey\, Newark\, United States
CATEGORIES:Events
ATTACH;FMTTYPE=image/jpeg:https://deloachfamilyties.org/wp-content/uploads/2024/07/March-30th-Event-Flyer.jpg
END:VEVENT
BEGIN:VEVENT
DTSTART;TZID=UTC:20240316T110000
DTEND;TZID=UTC:20240316T130000
DTSTAMP:20260423T194420
CREATED:20241112T215821Z
LAST-MODIFIED:20241112T215830Z
UID:3232-1710586800-1710594000@deloachfamilyties.org
SUMMARY:Real House Homeless Shelter Giveaway
DESCRIPTION:Real House Homeless Shelter Giveaway\n 
URL:https://deloachfamilyties.org/event/real-house/
LOCATION:New Jersey\, Newark\, United States
CATEGORIES:Events
ATTACH;FMTTYPE=image/jpeg:https://deloachfamilyties.org/wp-content/uploads/2024/07/real-house-men-shelter-flyer.jpg
END:VEVENT
BEGIN:VEVENT
DTSTART;TZID=UTC:20240127T123000
DTEND;TZID=UTC:20240127T153000
DTSTAMP:20260423T194420
CREATED:20241112T215046Z
LAST-MODIFIED:20241112T215046Z
UID:3235-1706358600-1706369400@deloachfamilyties.org
SUMMARY:Isaiah's House
DESCRIPTION:Isaiah’s House\n 
URL:https://deloachfamilyties.org/event/isaiahs-house/
LOCATION:New Jersey\, Newark\, United States
CATEGORIES:Events
ATTACH;FMTTYPE=image/jpeg:https://deloachfamilyties.org/wp-content/uploads/2024/07/Isaiah-House-Flyer.jpg
END:VEVENT
BEGIN:VEVENT
DTSTART;TZID=UTC:20240124T100000
DTEND;TZID=UTC:20240124T140000
DTSTAMP:20260423T194420
CREATED:20241112T214718Z
LAST-MODIFIED:20241112T214718Z
UID:3237-1706090400-1706104800@deloachfamilyties.org
SUMMARY:DFT Project Homeless Event
DESCRIPTION:DFT Project Homeless Event\n 
URL:https://deloachfamilyties.org/event/dft-project-homeless-event/
LOCATION:New Jersey\, Newark\, United States
CATEGORIES:Events
ATTACH;FMTTYPE=image/jpeg:https://deloachfamilyties.org/wp-content/uploads/2024/08/DFT-project-homeless-flyer.jpg
END:VEVENT
BEGIN:VEVENT
DTSTART;TZID=UTC:20231211T170000
DTEND;TZID=UTC:20231211T210000
DTSTAMP:20260423T194420
CREATED:20241112T214436Z
LAST-MODIFIED:20241112T214436Z
UID:3238-1702314000-1702328400@deloachfamilyties.org
SUMMARY:Winter Wonderland Festival
DESCRIPTION:Winter Wonderland Festival\n 
URL:https://deloachfamilyties.org/event/winter-wonderland-festival/
LOCATION:New Jersey\, Newark\, United States
CATEGORIES:Events
ATTACH;FMTTYPE=image/jpeg:https://deloachfamilyties.org/wp-content/uploads/2024/07/winter-wonderland-flyer.jpg
END:VEVENT
BEGIN:VEVENT
DTSTART;TZID=UTC:20231119T120000
DTEND;TZID=UTC:20231119T160000
DTSTAMP:20260423T194420
CREATED:20241112T221715Z
LAST-MODIFIED:20241112T221715Z
UID:3254-1700395200-1700409600@deloachfamilyties.org
SUMMARY:Pre-Holiday Community Give Back
DESCRIPTION:Pre-Holiday Community Give Back\n 
URL:https://deloachfamilyties.org/event/pre-holiday-community-give-back/
LOCATION:New Jersey\, Newark\, United States
CATEGORIES:Events
ATTACH;FMTTYPE=image/jpeg:https://deloachfamilyties.org/wp-content/uploads/2024/07/pre-holiday-give-back-flyer.jpg
END:VEVENT
BEGIN:VEVENT
DTSTART;VALUE=DATE:20230521
DTEND;VALUE=DATE:20230522
DTSTAMP:20260423T194420
CREATED:20241112T221402Z
LAST-MODIFIED:20241119T182747Z
UID:3229-1684627200-1684713599@deloachfamilyties.org
SUMMARY:Sunset Care Event
DESCRIPTION:Sunset Care Event\n 
URL:https://deloachfamilyties.org/event/sunset-care-event/
LOCATION:New Jersey\, Newark\, United States
CATEGORIES:Events
ATTACH;FMTTYPE=image/jpeg:https://deloachfamilyties.org/wp-content/uploads/2024/11/Sunset-Care052123-copy.jpg
END:VEVENT
END:VCALENDAR