BEGIN:VCALENDAR
VERSION:2.0
PRODID:-//Deloach Family Ties - ECPv6.15.20//NONSGML v1.0//EN
CALSCALE:GREGORIAN
METHOD:PUBLISH
X-ORIGINAL-URL:https://deloachfamilyties.org
X-WR-CALDESC:Events for Deloach Family Ties
REFRESH-INTERVAL;VALUE=DURATION:PT1H
X-Robots-Tag:noindex
X-PUBLISHED-TTL:PT1H
BEGIN:VTIMEZONE
TZID:UTC
BEGIN:STANDARD
TZOFFSETFROM:+0000
TZOFFSETTO:+0000
TZNAME:UTC
DTSTART:20240101T000000
END:STANDARD
END:VTIMEZONE
BEGIN:VEVENT
DTSTART;TZID=UTC:20251026T183000
DTEND;TZID=UTC:20251026T190000
DTSTAMP:20260426T024206
CREATED:20251113T151706Z
LAST-MODIFIED:20251113T151706Z
UID:4814-1761503400-1761505200@deloachfamilyties.org
SUMMARY:Community Pop-up Feed: OCT 26
DESCRIPTION: 
URL:https://deloachfamilyties.org/event/community-pop-up-feed-oct-26/
LOCATION:Newark\, NJ\, Newark\, NJ\, United States
CATEGORIES:Events
ATTACH;FMTTYPE=image/jpeg:https://deloachfamilyties.org/wp-content/uploads/2025/11/Pop-up-Community-Feeds-Flyer-1.jpg
ORGANIZER;CN="DeLoach Family Ties":MAILTO:deloachfamilyties@gmail.com
END:VEVENT
BEGIN:VEVENT
DTSTART;TZID=UTC:20251031T160000
DTEND;TZID=UTC:20251031T190000
DTSTAMP:20260426T024206
CREATED:20251029T125052Z
LAST-MODIFIED:20251029T125052Z
UID:4720-1761926400-1761937200@deloachfamilyties.org
SUMMARY:Haunted Precinct Halloween Event
DESCRIPTION: 
URL:https://deloachfamilyties.org/event/haunted-precinct-halloween-event/
LOCATION:Newark\, NJ\, Newark\, NJ\, United States
CATEGORIES:Events
ATTACH;FMTTYPE=image/jpeg:https://deloachfamilyties.org/wp-content/uploads/2025/10/1000016339.jpg
ORGANIZER;CN="DeLoach Family Ties":MAILTO:deloachfamilyties@gmail.com
END:VEVENT
BEGIN:VEVENT
DTSTART;TZID=UTC:20251031T190000
DTEND;TZID=UTC:20251102T100000
DTSTAMP:20260426T024206
CREATED:20251029T124754Z
LAST-MODIFIED:20251029T125821Z
UID:4721-1761937200-1762077600@deloachfamilyties.org
SUMMARY:Youth & Young Adults Good Vibes Weekend
DESCRIPTION: 
URL:https://deloachfamilyties.org/event/good-vibes-weekend/
LOCATION:East Orange
CATEGORIES:Events
ATTACH;FMTTYPE=image/jpeg:https://deloachfamilyties.org/wp-content/uploads/2025/10/1000016340.jpg
ORGANIZER;CN="DeLoach Family Ties":MAILTO:deloachfamilyties@gmail.com
END:VEVENT
BEGIN:VEVENT
DTSTART;TZID=UTC:20251109T140000
DTEND;TZID=UTC:20251109T170000
DTSTAMP:20260426T024206
CREATED:20251029T124426Z
LAST-MODIFIED:20251029T124426Z
UID:4722-1762696800-1762707600@deloachfamilyties.org
SUMMARY:New Mommy Community Giveback
DESCRIPTION: 
URL:https://deloachfamilyties.org/event/new-mommy-community-giveback/
LOCATION:Newark\, NJ\, Newark\, NJ\, United States
CATEGORIES:Events
ATTACH;FMTTYPE=image/jpeg:https://deloachfamilyties.org/wp-content/uploads/2025/10/1000016341.jpg
ORGANIZER;CN="DeLoach Family Ties":MAILTO:deloachfamilyties@gmail.com
END:VEVENT
BEGIN:VEVENT
DTSTART;VALUE=DATE:20251114
DTEND;VALUE=DATE:20251125
DTSTAMP:20260426T024206
CREATED:20251110T224602Z
LAST-MODIFIED:20251110T224602Z
UID:4800-1763078400-1764028799@deloachfamilyties.org
SUMMARY:Turkey Giveaway
DESCRIPTION: 
URL:https://deloachfamilyties.org/event/turkey-giveaway/
LOCATION:Newark\, NJ\, Newark\, NJ\, United States
CATEGORIES:Events
ATTACH;FMTTYPE=image/jpeg:https://deloachfamilyties.org/wp-content/uploads/2025/11/Thanksgiving-Turkey-Giveaway-Flyer.jpg
ORGANIZER;CN="DeLoach Family Ties":MAILTO:deloachfamilyties@gmail.com
END:VEVENT
BEGIN:VEVENT
DTSTART;TZID=UTC:20251124T120000
DTEND;TZID=UTC:20251124T154500
DTSTAMP:20260426T024206
CREATED:20251210T161959Z
LAST-MODIFIED:20251210T161959Z
UID:5086-1763985600-1763999100@deloachfamilyties.org
SUMMARY:DFT & GEO Rentry Services Turkey Giveaway
DESCRIPTION: 
URL:https://deloachfamilyties.org/event/dft-geo-rentry-services-turkey-giveaway/
LOCATION:Newark\, NJ\, Newark\, NJ\, United States
CATEGORIES:Events
ATTACH;FMTTYPE=image/jpeg:https://deloachfamilyties.org/wp-content/uploads/2025/12/DFT-GEO-Turkey-giveaway_1-2.jpg
ORGANIZER;CN="DeLoach Family Ties":MAILTO:deloachfamilyties@gmail.com
END:VEVENT
BEGIN:VEVENT
DTSTART;TZID=UTC:20251126T140000
DTEND;TZID=UTC:20251126T180000
DTSTAMP:20260426T024206
CREATED:20251110T225435Z
LAST-MODIFIED:20251110T225946Z
UID:4803-1764165600-1764180000@deloachfamilyties.org
SUMMARY:100 Meals Thanksgiving Dinner
DESCRIPTION:*** PLEASE READ ***\nMEALS ARE ON A FIRST-COME\, FIRST-SERVED BASIS until we reach 100\nYOU MUST LIVE IN THE FOLLOWING AREAS Newark\, Irvington\, Orange\, East Orange\, West Orange South Orange\, Maplewood\, Irvington \n***On 11/19/25 Send an email to be scheduled for a brief intake*** Our staff will reach back out to schedule your intake; our email address is deloachfamilyties@gmail.com
URL:https://deloachfamilyties.org/event/100-meals-thanksgiving-dinner/
LOCATION:Newark\, NJ\, Newark\, NJ\, United States
CATEGORIES:Events
ATTACH;FMTTYPE=image/jpeg:https://deloachfamilyties.org/wp-content/uploads/2025/11/PART_1762741281109_IMG_8619.jpg
ORGANIZER;CN="DeLoach Family Ties":MAILTO:deloachfamilyties@gmail.com
END:VEVENT
BEGIN:VEVENT
DTSTART;TZID=UTC:20251216T150000
DTEND;TZID=UTC:20251216T170000
DTSTAMP:20260426T024206
CREATED:20251210T161612Z
LAST-MODIFIED:20251210T161732Z
UID:5082-1765897200-1765904400@deloachfamilyties.org
SUMMARY:Christmas Giveaway
DESCRIPTION: 
URL:https://deloachfamilyties.org/event/christmas-giveaway/
LOCATION:Newark\, NJ\, Newark\, NJ\, United States
CATEGORIES:Events
ATTACH;FMTTYPE=image/jpeg:https://deloachfamilyties.org/wp-content/uploads/2025/12/1000017591.jpg
ORGANIZER;CN="DeLoach Family Ties":MAILTO:deloachfamilyties@gmail.com
END:VEVENT
END:VCALENDAR