BEGIN:VCALENDAR
VERSION:2.0
PRODID:-//Deloach Family Ties - ECPv6.15.20//NONSGML v1.0//EN
CALSCALE:GREGORIAN
METHOD:PUBLISH
X-ORIGINAL-URL:https://deloachfamilyties.org
X-WR-CALDESC:Events for Deloach Family Ties
REFRESH-INTERVAL;VALUE=DURATION:PT1H
X-Robots-Tag:noindex
X-PUBLISHED-TTL:PT1H
BEGIN:VTIMEZONE
TZID:UTC
BEGIN:STANDARD
TZOFFSETFROM:+0000
TZOFFSETTO:+0000
TZNAME:UTC
DTSTART:20140101T000000
END:STANDARD
END:VTIMEZONE
BEGIN:VEVENT
DTSTART;VALUE=DATE:20150101
DTEND;VALUE=DATE:20360101
DTSTAMP:20260425T185401
CREATED:20250521T160328Z
LAST-MODIFIED:20250521T160545Z
UID:4304-1420070400-2082758399@deloachfamilyties.org
SUMMARY:30 Days of Relief
DESCRIPTION:30 Days of Relief\n  \n 
URL:https://deloachfamilyties.org/event/30-days-of-relief-event/
LOCATION:Newark\, NJ\, Newark\, NJ\, United States
CATEGORIES:Events
ATTACH;FMTTYPE=image/png:https://deloachfamilyties.org/wp-content/uploads/2025/05/30-Days-of-Relief-copy.png
ORGANIZER;CN="DeLoach Family Ties":MAILTO:deloachfamilyties@gmail.com
END:VEVENT
BEGIN:VEVENT
DTSTART;VALUE=DATE:20150101
DTEND;VALUE=DATE:20360101
DTSTAMP:20260425T185401
CREATED:20250521T161200Z
LAST-MODIFIED:20250522T110151Z
UID:4308-1420070400-2082758399@deloachfamilyties.org
SUMMARY:The Resource & Referral Program
DESCRIPTION:The Resource & Referral Program\n  \n 
URL:https://deloachfamilyties.org/event/the-resource-referral-event/
LOCATION:Newark\, NJ\, Newark\, NJ\, United States
CATEGORIES:Events
ATTACH;FMTTYPE=image/jpeg:https://deloachfamilyties.org/wp-content/uploads/2025/05/Resource-Referral-event.jpg
ORGANIZER;CN="DeLoach Family Ties":MAILTO:deloachfamilyties@gmail.com
END:VEVENT
BEGIN:VEVENT
DTSTART;VALUE=DATE:20150101
DTEND;VALUE=DATE:20360101
DTSTAMP:20260425T185401
CREATED:20250522T110713Z
LAST-MODIFIED:20250522T110713Z
UID:4311-1420070400-2082758399@deloachfamilyties.org
SUMMARY:B.U.I.L.D. Programs
DESCRIPTION:B.U.I.L.D. Programs\n  \n 
URL:https://deloachfamilyties.org/event/build-programs/
LOCATION:Newark\, NJ\, Newark\, NJ\, United States
CATEGORIES:Events
ATTACH;FMTTYPE=image/png:https://deloachfamilyties.org/wp-content/uploads/2025/05/DFT-B.U.I.L.D-Mentorship-copy.png
ORGANIZER;CN="DeLoach Family Ties":MAILTO:deloachfamilyties@gmail.com
END:VEVENT
BEGIN:VEVENT
DTSTART;TZID=UTC:20251018T140000
DTEND;TZID=UTC:20251018T190000
DTSTAMP:20260425T185401
CREATED:20250913T022431Z
LAST-MODIFIED:20250922T235717Z
UID:4579-1760796000-1760814000@deloachfamilyties.org
SUMMARY:Fall for a Great Cause
DESCRIPTION:Fall for a Great Cause\nTickets are $40 per person. Includes: \n\nEntry\nComplete Meal\nDrink (non-alcoholic beverage)\nSnack\nEntertainment\nTwo (2) Raffle Tickets\n\nPlease click here or scan QR code to purchase tickets.
URL:https://deloachfamilyties.org/event/fall-for-a-great-cause/
LOCATION:Newark\, NJ\, Newark\, NJ\, United States
CATEGORIES:Events
ATTACH;FMTTYPE=image/jpeg:https://deloachfamilyties.org/wp-content/uploads/2025/09/Hispanic-Event-web2.jpg
ORGANIZER;CN="DeLoach Family Ties":MAILTO:deloachfamilyties@gmail.com
END:VEVENT
END:VCALENDAR